BEGIN:VCALENDAR
VERSION:2.0
PRODID:-//La Voie du Chaman - Aynea Heyoka - ECPv6.15.20//NONSGML v1.0//EN
CALSCALE:GREGORIAN
METHOD:PUBLISH
X-WR-CALNAME:La Voie du Chaman - Aynea Heyoka
X-ORIGINAL-URL:http://voieduchaman.com
X-WR-CALDESC:Évènements pour La Voie du Chaman - Aynea Heyoka
REFRESH-INTERVAL;VALUE=DURATION:PT1H
X-Robots-Tag:noindex
X-PUBLISHED-TTL:PT1H
BEGIN:VTIMEZONE
TZID:Europe/Zurich
BEGIN:DAYLIGHT
TZOFFSETFROM:+0100
TZOFFSETTO:+0200
TZNAME:CEST
DTSTART:20240331T010000
END:DAYLIGHT
BEGIN:STANDARD
TZOFFSETFROM:+0200
TZOFFSETTO:+0100
TZNAME:CET
DTSTART:20241027T010000
END:STANDARD
BEGIN:DAYLIGHT
TZOFFSETFROM:+0100
TZOFFSETTO:+0200
TZNAME:CEST
DTSTART:20250330T010000
END:DAYLIGHT
BEGIN:STANDARD
TZOFFSETFROM:+0200
TZOFFSETTO:+0100
TZNAME:CET
DTSTART:20251026T010000
END:STANDARD
BEGIN:DAYLIGHT
TZOFFSETFROM:+0100
TZOFFSETTO:+0200
TZNAME:CEST
DTSTART:20260329T010000
END:DAYLIGHT
BEGIN:STANDARD
TZOFFSETFROM:+0200
TZOFFSETTO:+0100
TZNAME:CET
DTSTART:20261025T010000
END:STANDARD
END:VTIMEZONE
BEGIN:VEVENT
DTSTART;TZID=Europe/Zurich:20250221T183000
DTEND;TZID=Europe/Zurich:20250221T230000
DTSTAMP:20260422T114140
CREATED:20240304T115704Z
LAST-MODIFIED:20250110T114408Z
UID:29268-1740162600-1740178800@voieduchaman.com
SUMMARY:Cérémonie avec Grand-Père Tabac
DESCRIPTION:Cette cérémonie vous permet d’aller à la rencontre de l’Esprit du Tabac\, qui est purificateur et protecteur. Elle vise à un nettoyage complet (des 4 corps) de l’organisme\, ceci au travers d’une purge.\nElle est particulièrement recommandée en ouverture des cérémonies du Miroir de l’Âme. \nSur un plan physique\, il a de fortes capacités purgatives et antivirales. Sur le plan mental et émotionnel\, il clarifie l’esprit\, soutient l’ancrage\, la détermination et stabilise les émotions\, en particulier anxiété\, émotivité et cogitations. Sur le plan spirituel\, il facilite la méditation et la connexion. \nConditions : Par son inscription\, chaque participant/e déclare participer au stage de son plein gré et porter la responsabilité de lui-même et de sa propre santé\, de s’engager à suivre le déroulement proposé et à adopter une attitude et un comportement responsables envers lui-même et envers le groupe. L’organisateur ne répond pas de dommages matériels\, corporels ou autre.\n♦ La contribution valide l’inscription. Elle est à faire par virement bancaire aux coordonnées suivantes\, avec la mention atelier 21.02 :\nAynea & Co  – 1950 Sion\, Banque Raiffeisen Sion & Région\, IBAN CH51 8080 8006 7290 7503 8\, swift-bic RAIFCH22. \nInfos pratiques :\n\n♦ La préparation : Indiquer impérativement si prise de médicament\, maladie ou problème particulier.\nC’est un Esprit de premier ordre et il peut être exigent. Je vous invite donc les jours précédents à diminuer toutes les sources très stimulantes. En particulier à réduire alcool\, tabac\, café\, marijuana et les autres excitants. Il en va de même pour les activités ayant un impact marqué sur votre état interne (sport\, sexe\, réseaux sociaux\, sorties\, etc.). Favorisez des temps d’introspection et la conscientisation de votre motivation pour ce travail.\nLe  jour de la cérémonie\, il faut que arriver à jeun\, c’est-à-dire ne rien manger après le repas de midi. Vous pouvez néanmoins boire de l’eau modérément.\n♦ Le matériel : Prévoir des habits confortables. Prendre un tapis de sol\, une couverture\, un coussin\, un seau et des bouteilles pour une contenance de 3 litres min. Éventuellement apporter une offrande et de petits objets à recharger.
URL:http://voieduchaman.com/evenements/purge-tabac/
LOCATION:Vex\, 1981\, Suisse
CATEGORIES:Cérémonie
ATTACH;FMTTYPE=image/jpeg:http://voieduchaman.com/wp-content/uploads/2023/06/Sans-titre-2.jpg
ORGANIZER;CN="Aynea Heyoka":MAILTO:ayneah@gmail.com
END:VEVENT
BEGIN:VEVENT
DTSTART;TZID=Europe/Zurich:20250221T183000
DTEND;TZID=Europe/Zurich:20250308T113000
DTSTAMP:20260422T114140
CREATED:20241122T132844Z
LAST-MODIFIED:20250306T134043Z
UID:29405-1740162600-1741433400@voieduchaman.com
SUMMARY:Pratique amazonienne avancée - diète de plante (mode social)
DESCRIPTION:Processus de guérison et d’apprentissage par la voie des plantes.\nLors de cette diète sur 15 jours\, vous serez en travail introspectif profond avec une diète de plante. Entre les cérémonies\, vous pratiquerez la diète chez vous. Plus d’info : https://voieduchaman.com/dietes-de-plantes/\nPour l’ouverture de la diète\, vous bénéficierez d’une cérémonie de Tabac (purge) suivie d’une cérémonie du Miroir de l’Âme\, ainsi que d’une cérémonie de fermeture avec le Rape. Un ou deux entretiens en cours de processus seront proposés.\nCes cérémonies soutiendront votre processus de diète de plantes maîtresses. J’ai de nombreuses diètes à disposition (ex.: tilleul\, sauge\, cacao\, came renaco\, bobinsana\, chuchuwasi\, tabac\, ajosacha\, rape). La diète sera de type social\, donc un peu moins stricte qu’en retraite mais plus longue.\nLa diète d’une plante maîtresse consiste en imprégnation des énergies et enseignements de la plante\, qui oriente le processus de la retraite. La diète d’une plante est donnée traditionnellement dans deux situations : la première\, pour guérir le patient\, la deuxième pour l’apprentissage d’un futur guérisseur. Chez nous\, elle consiste plutôt à découvrir\, développer des types d’énergies et d’acquérir du pouvoir personnel.\nVous dormirez dans la yourte après les cérémonies mais vous respecterez un isolement et une diète relatifs lorsque vous serez chez vous. La journée entre la purge et le miroir sera consacrée au commencement de la diète de plante\, à l’introspection et au repos.\nJe vous proposerai des espaces d’échanges personnels\, un soutien adaptés à vos besoins et de cercles de partage en début et fin de processus. \nIl est possible de participer à un seul type de cérémonie (voir l’agenda) :\n– Tabac (vendredi 21 février) 150.-\n– Miroir de l’âme (samedi 22 à dimanche 23) 350.-\n– Rape (samedi 8 février) 150.-\nLa priorité sera donnée aux personnes suivant la pratique complète. \nAttention : la participation à ces cérémonies nécessite au moins un entretien personnel préalable donnant le feu vert\, le respect strict de la diète\, ainsi qu’une préparation de plusieurs jours avant et des restrictions après (voir préparation ci-dessous). \nInscription : par mail à ayneah@gmail.com. Maximum 11 personnes. \nConditions : Par son inscription\, chaque participant/e déclare participer au stage de son plein gré et porter la responsabilité de lui-même et de sa propre santé\, de s’engager à suivre le déroulement proposé et à adopter une attitude et un comportement responsables envers lui-même et envers le groupe. L’organisateur ne répond pas de dommages matériels\, corporels ou autre.\n♦ La contribution valide l’inscription. Elle est à faire par virement bancaire aux coordonnées suivantes\, avec la mention retraite d’été :\nAynea & Co  – 1950 Sion\, Banque Raiffeisen Sion & Région\, IBAN CH51 8080 8006 7290 7503 8. \nInfos pratiques :\n\n♦ La préparation est donnée ici à titre indicatif\, la diète devant être validée directement avec moi. Elle consiste en une diète de toute alimentation ou activité excitante et stimulante\, ou modifiant fortement votre état interne. Vous réduirez autant que vous pouvez\, voire éviterez\, donc : le sucre\, le café\, le thé\, les épices\, le piment\, le chocolat\, l’alcool\, les cigarettes\, le cannabis\, le sexe\, les conflits\, le sport intensif\, la télé\, les sujets qui vous énervent\, etc. S’abstenir également de consommer du sel. Vous favoriserez : l’eau\, les fruits\, les légumes\, l’introspection\, le calme\, la marche dans la nature\, etc. Prendre le temps de sonder les motivations profondes à cette démarche.\nLa diète commence au minimum 3 jours avant la 1ère cérémonie. Cette préparation est un travail en soi. Il se peut que vous vous sentiez fatigué ou avec un niveau assez bas d’énergie\, c’est normal. Veillez toutefois à ne pas arriver épuisé aux cérémonies. Le jour-même de la 1ère cérémonie : ne plus manger après le repas de midi (sauf éventu. un fruit)\, ne boire que de l’eau.\nDes restrictions seront également demandées en sortie de processus.\n♦ Le matériel : Il est recommandé de favoriser autant que possible votre confort physique. Pour l’isolement vous aurez besoin d’une tente\, d’un matelas\, d’un sac de couchage et d’un coussin\, habits de rechange\, affaires de douche\, lampe de poche\, bougie\, maillot de bain\, de quoi prendre des notes. Pour les cérémonies un tapis de sol\, une couverture\, un coussin\, un tambour/hochet (si vous avez). Des contenants pour un équivalent de 3 litres (gourdes\, bouteilles) et un seau.\nPrévoyez des vêtements confortables clairs\, si possible en matière naturelle. Il arrive de ressentir beaucoup de froid et de chaud\, donc prenez des vêtements superposables.\nSi vous le souhaitez\, vous pouvez amener des objets personnels (pierres\, etc) qui ont une signification particulière pour vous (en quantité et taille raisonnables) et/ou quelque chose à offrir sur l’autel (fleurs\, tabac\, etc.)\, et un peu de nourriture à partager.
URL:http://voieduchaman.com/evenements/pratique-amazonienne-diete-de-plante-social/
LOCATION:Vex\, 1981\, Suisse
CATEGORIES:Cérémonie
ATTACH;FMTTYPE=image/jpeg:http://voieduchaman.com/wp-content/uploads/2024/02/PEN2935-scaled.jpg
ORGANIZER;CN="Aynea Heyoka":MAILTO:ayneah@gmail.com
END:VEVENT
END:VCALENDAR