BEGIN:VCALENDAR
VERSION:2.0
PRODID:-//La Voie du Chaman - Aynea Heyoka - ECPv6.15.20//NONSGML v1.0//EN
CALSCALE:GREGORIAN
METHOD:PUBLISH
X-ORIGINAL-URL:http://voieduchaman.com
X-WR-CALDESC:Évènements pour La Voie du Chaman - Aynea Heyoka
REFRESH-INTERVAL;VALUE=DURATION:PT1H
X-Robots-Tag:noindex
X-PUBLISHED-TTL:PT1H
BEGIN:VTIMEZONE
TZID:Europe/Zurich
BEGIN:DAYLIGHT
TZOFFSETFROM:+0100
TZOFFSETTO:+0200
TZNAME:CEST
DTSTART:20250330T010000
END:DAYLIGHT
BEGIN:STANDARD
TZOFFSETFROM:+0200
TZOFFSETTO:+0100
TZNAME:CET
DTSTART:20251026T010000
END:STANDARD
BEGIN:DAYLIGHT
TZOFFSETFROM:+0100
TZOFFSETTO:+0200
TZNAME:CEST
DTSTART:20260329T010000
END:DAYLIGHT
BEGIN:STANDARD
TZOFFSETFROM:+0200
TZOFFSETTO:+0100
TZNAME:CET
DTSTART:20261025T010000
END:STANDARD
BEGIN:DAYLIGHT
TZOFFSETFROM:+0100
TZOFFSETTO:+0200
TZNAME:CEST
DTSTART:20270328T010000
END:DAYLIGHT
BEGIN:STANDARD
TZOFFSETFROM:+0200
TZOFFSETTO:+0100
TZNAME:CET
DTSTART:20271031T010000
END:STANDARD
END:VTIMEZONE
BEGIN:VEVENT
DTSTART;TZID=Europe/Zurich:20260710T183000
DTEND;TZID=Europe/Zurich:20260710T233000
DTSTAMP:20260421T154606
CREATED:20240109T112114Z
LAST-MODIFIED:20260302T180041Z
UID:29169-1783708200-1783726200@voieduchaman.com
SUMMARY:Cérémonie avec Grand-Père Tabac - Ile de la Réunion
DESCRIPTION:Cette cérémonie vous permet d’aller à la rencontre de l’Esprit du Tabac\, qui est purificateur et protecteur. \nSur un plan physique\, il a de fortes capacités purgatives et antivirales. Sur le plan mental et émotionnel\, il clarifie l’esprit\, soutient l’ancrage\, la détermination et stabilise les émotions\, en particulier anxiété\, émotivité et cogitations. Sur le plan spirituel\, il facilite la méditation et la connexion. \nCette cérémonie servira d’ouverture de diète de plante ou en préparation aux cérémonies du weekend suivant (17-19 juillet). \nInscription : par mail à ayneah@gmail.com. \nConditions : Par son inscription\, chaque participant/e déclare participer au stage de son plein gré et porter la responsabilité de lui-même et de sa propre santé\, de s’engager à suivre le déroulement proposé et à adopter une attitude et un comportement responsables envers lui-même et envers le groupe. L’organisateur ne répond pas de dommages matériels\, corporels ou autre.\n♦ La contribution valide l’inscription. Elle est à faire par virement bancaire aux coordonnées suivantes\, avec la mention pratique du 10.07 :\nAynea & Co  – 1950 Sion\, Banque Raiffeisen Sion & Région\, IBAN CH51 8080 8006 7290 7503 8. \nInfos pratiques :\n\n♦ La préparation : Indiquer impérativement si prise de médicament\, maladie ou problème particulier.\nC’est un Esprit de premier ordre et il peut être exigent. Je vous invite donc les jours précédents à diminuer toutes les sources très stimulantes. En particulier à arrêter ou réduire fortement alcool\, tabac\, café\, marijuana et les autres excitants. Il en va de même pour les activités ayant un impact marqué sur votre état interne (sport\, sexe\, réseaux sociaux\, sorties\, etc.). Favorisez des temps d’introspection et la conscientisation de votre motivation pour ce travail.\nLe  jour de la cérémonie\, il faut que arriver à jeun\, c’est-à-dire ne rien manger après le repas de midi. Vous pouvez néanmoins boire de l’eau modérément.\n♦ Le matériel : Prévoir des habits confortables\, peut-être de quoi vous doucher et vous changer. Prendre un tapis de sol\, une couverture\, un coussin\, un seau et des bouteilles pour une contenance de 3 litres min. Éventuellement apporter une offrande et de petits objets à recharger pour l’autel.
URL:http://voieduchaman.com/evenements/purge-tabac-2/
CATEGORIES:Cérémonie
ATTACH;FMTTYPE=image/jpeg:http://voieduchaman.com/wp-content/uploads/2023/06/Sans-titre-2.jpg
END:VEVENT
BEGIN:VEVENT
DTSTART;TZID=Europe/Zurich:20260717T190000
DTEND;TZID=Europe/Zurich:20260719T113000
DTSTAMP:20260421T154606
CREATED:20240109T110345Z
LAST-MODIFIED:20260302T180534Z
UID:29162-1784314800-1784460600@voieduchaman.com
SUMMARY:Retraite Miroir de l'Âme - Île de la Réunion
DESCRIPTION:Un face à face avec soi-même en profondeur (travail de conscience\, reconnexion au Sacré) pour la guérison de blessures particulièrement importantes et enseignements profonds durant 2 nuits de cérémonies\, accompagnés de chants sacrés. \nAttention : la participation à ces cérémonies nécessite au moins un entretien personnel préalable validant le feu vert\, ainsi qu’une préparation de plusieurs jours. \nConditions : Par son inscription\, chaque participant/e déclare participer au stage de son plein gré et porter la responsabilité de lui-même et de sa propre santé\, de s’engager à suivre le déroulement proposé et à adopter une attitude et un comportement responsables envers lui-même et envers le groupe. L’organisateur ne répond pas de dommages matériels\, corporels ou autre.\n♦ La contribution valide l’inscription. Elle est à faire par virement bancaire aux coordonnées suivantes\, avec la mention retraite juillet :\nAynea & Co  – 1950 Sion\, Banque Raiffeisen Sion & Région\, IBAN CH51 8080 8006 7290 7503 8\, swift-bic RAIFCH22. \nInfos pratiques :\nAccueil dès 18h 🙂\n♦ La préparation est donnée ici à titre indicatif\, celle-ci devant être validée directement avec moi. Elle consiste en une restriction de toute alimentation ou activité excitante et stimulante\, ou modifiant fortement votre état interne. Vous réduirez autant que vous pouvez\, voire éviterez\, donc : le sucre\, le café\, le thé\, les épices\, le piment\, le chocolat\, l’alcool\, les cigarettes\, le cannabis\, le sexe\, les conflits\, le sport intensif\, la télé\, les sujets qui vous énervent\, etc. S’abstenir également de consommer du sel. Vous favoriserez : l’eau\, les fruits\, les légumes\, l’introspection\, le calme\, la marche dans la nature\, etc. Prendre le temps de sonder les motivations profondes à cette démarche.\nLa préparation commence au minimum 3 jours avant la 1ère cérémonie. La participation à la Cérémonie de Tabac (purge) la veille est recommandée : cette plante complémentaire permet en effet un nettoyage plus en profondeur de l’organisme et des différents corps énergétiques (voir programme).\nCette préparation est un travail en soi. Il se peut que vous vous sentiez fatigué ou avec un niveau assez bas d’énergie\, c’est normal. Veillez toutefois à ne pas arriver épuisé aux cérémonies. Le jour-même de la 1ère cérémonie : ne plus manger après le repas de midi (sauf éventu. un fruit)\, ne boire que de l’eau. Me contacter en cas de doute ou de problème !!\n♦ Le matériel : Il est recommandé de favoriser autant que possible votre confort physique. Vous aurez besoin d’un matelas\, d’un sac de couchage et/ou d’une couverture\, d’un coussin\, d’une petite lampe de poche\, d’affaires pour vous doucher\, de quoi prendre des notes.\nPrévoyez des vêtements dédiés aux cérémonies confortables\, si possible en matière naturelle\, et clairs. Il arrive de ressentir beaucoup de froid et de chaud\, donc prenez des vêtements superposables.\nSi vous le souhaitez\, vous pouvez amener des objets personnels (pierres\, etc) qui ont une signification particulière pour vous (en quantité et taille raisonnables) et/ou quelque chose à offrir sur l’autel (fleurs\, tabac\, etc.)\, et un peu de nourriture à partager.
URL:http://voieduchaman.com/evenements/miroir-reunion/
CATEGORIES:Cérémonie
ATTACH;FMTTYPE=image/jpeg:http://voieduchaman.com/wp-content/uploads/2024/01/miroir-de-lame.jpg
ORGANIZER;CN="Aynea Heyoka":MAILTO:ayneah@gmail.com
END:VEVENT
END:VCALENDAR