BEGIN:VCALENDAR
VERSION:2.0
PRODID:-//La Voie du Chaman - Aynea Heyoka - ECPv6.15.20//NONSGML v1.0//EN
CALSCALE:GREGORIAN
METHOD:PUBLISH
X-ORIGINAL-URL:http://voieduchaman.com
X-WR-CALDESC:Évènements pour La Voie du Chaman - Aynea Heyoka
REFRESH-INTERVAL;VALUE=DURATION:PT1H
X-Robots-Tag:noindex
X-PUBLISHED-TTL:PT1H
BEGIN:VTIMEZONE
TZID:Europe/Zurich
BEGIN:DAYLIGHT
TZOFFSETFROM:+0100
TZOFFSETTO:+0200
TZNAME:CEST
DTSTART:20240331T010000
END:DAYLIGHT
BEGIN:STANDARD
TZOFFSETFROM:+0200
TZOFFSETTO:+0100
TZNAME:CET
DTSTART:20241027T010000
END:STANDARD
BEGIN:DAYLIGHT
TZOFFSETFROM:+0100
TZOFFSETTO:+0200
TZNAME:CEST
DTSTART:20250330T010000
END:DAYLIGHT
BEGIN:STANDARD
TZOFFSETFROM:+0200
TZOFFSETTO:+0100
TZNAME:CET
DTSTART:20251026T010000
END:STANDARD
BEGIN:DAYLIGHT
TZOFFSETFROM:+0100
TZOFFSETTO:+0200
TZNAME:CEST
DTSTART:20260329T010000
END:DAYLIGHT
BEGIN:STANDARD
TZOFFSETFROM:+0200
TZOFFSETTO:+0100
TZNAME:CET
DTSTART:20261025T010000
END:STANDARD
END:VTIMEZONE
BEGIN:VEVENT
DTSTART;VALUE=DATE:20250709
DTEND;VALUE=DATE:20250713
DTSTAMP:20260422T022521
CREATED:20250520T125849Z
LAST-MODIFIED:20250520T142621Z
UID:29668-1752019200-1752364799@voieduchaman.com
SUMMARY:Cérémonies et transmission chamaniques d'Amérique du nord avec Émeraude (Canada / USA)
DESCRIPTION:Nous avons l’immense joie d’accueillir Émeraude venue du Canada\, Humaine qui marche la Terre\, pour une série de rencontres et de cérémonies.​ Verseuse d’eau dans les Inipis (huttes de sudation)\, femme tambour depuis plus de 35 ans (cérémonial\, chant médecine et membre Esprit des Vents cercle de Femmes Tambour Mère et Tambour Cœur Pow Wow)\, au Canada et aux États-Unis.​​\nGardienne de la connaissance des enseignements traditionnels des Roues de Médecine et porteuse du Grand Calumet\, elle partagera avec une grande générosité ses transmissions et son expérience\, dans le respect des traditions qu’elle honore profondément. \nC’est la première fois qu’elle viendra sur nos terres pour partager son savoir et offrir des cérémonies de guérison et de célébration. \nInformations et inscriptions se font ici : ceremonies-en-suisse-du-9-au-12-juillet \nPROGRAMME  \nMercredi 9 Juillet\n15h Inipi -Hutte de Sudation\, participation à partir de 100.- \nVendredi 11 Juillet\n17h Inipi -Hutte de Sudation\, participation à partir de 100.- \nSamedi 12 Juillet\n10h – 16h30 Cérémonie de Roue de Médecine\, participation à partir de 100.-\n17h30 Cérémonie du Grand Calumet\, offrande pécuniaire \n\n\n\n\n\nCérémonie de l’Inipi :\nRituel de purification ancestral Appelée aussi “Sweat Lodge” (Hutte du Sudation)\, ce rituel s’inscrit dans les plus vieux espaces sacrés des premières nations. En tant que rite de passage et de purification\, il nous invite à plonger dans la chaleur du ventre de la Terre Mère pour ensuite renaitre de manière symbolique. La hutte est construite d’une armature en branches souples et recouverte de peaux (aujourd’hui de couvertures en laine) créant un espace sombre et fermé. La construction est supervisée par la femme ou l’homme médecine qui verse l’eau. Des pierres sont chauffées dans un feu à l’extérieur géré par le gardien du feu\, puis introduites au centre de la hutte. Le verseur ou la verseuse d’eau met de l’eau sur les pierres\, produisant de la vapeur. La cérémonie inclut des prières\, des chants sacrés\, du silence ou des témoignages. Elle se déroule en plusieurs « portes » (séquences)\, chacune correspondant à un aspect d’un tout (p.ex directions\, âges\, éléments\, etc.). Chaque geste a un sens sacré et un but bien précis. \n\n\n\n\nCérémonie de Roue de Médecine :\nEspace sacré d’enseignement et de transformation intérieure. À travers la sagesse des sept directions\, Émeraude nous guide sur le chemin de la connaissance de soi\, de la guérison et de l’harmonie avec les cycles de la Terre. Chaque Roue de Médecine est un voyage à la rencontre de notre essence et de notre lien profond au vivant et des traditions ancestrales. Ces cérémonies sont chargées de grands moments d’enseignements mais également de moments de bâton de parole. \n\n\n\n\nCérémonie du Grand Calumet :\nLa cérémonie du Grand Calumet est un moment privilégié dans laquelle Émeraude nous partageras les enseignements des premières nations en cercle. Ce moment est également un moment de prière et de connexion à grand père tabac. Les porteurs de la pipe sacrée sont des gardiens des traditions et ont pour mission de transmettre avec cœur et verbe la paix dans le monde . Dans cette cérémonie ouverte à toutes et tous (enfants inclus)\, la transmission est traditionnellement honorée pour les connaissances données par un cadeau de l’esprit (pour les natifs ce cadeau de l’esprit peut être financier ou matériel)\, de manière volontaire et sans aucune obligation. Étant donné qu’Émeraude repartira en avion pour le Québec\, il lui sera difficile de transporter des offrandes matérielles. Si vous souhaitez lui rendre hommage\, vous pouvez privilégier une contribution financière à lui remettre directement sur place. \n\n\n\n\n\n\n\n\n\n\n\n\n\n\nInformations et inscriptions se font ici : ceremonies-en-suisse-du-9-au-12-juillet
URL:http://voieduchaman.com/evenements/inipi-emeraude/
LOCATION:Vex\, 1981\, Suisse
CATEGORIES:Cérémonie
ATTACH;FMTTYPE=image/png:http://voieduchaman.com/wp-content/uploads/2025/05/femme-bison-blanc.png
END:VEVENT
END:VCALENDAR