BEGIN:VCALENDAR
VERSION:2.0
PRODID:-//La Voie du Chaman - Aynea Heyoka - ECPv6.15.20//NONSGML v1.0//EN
CALSCALE:GREGORIAN
METHOD:PUBLISH
X-ORIGINAL-URL:http://voieduchaman.com
X-WR-CALDESC:Évènements pour La Voie du Chaman - Aynea Heyoka
REFRESH-INTERVAL;VALUE=DURATION:PT1H
X-Robots-Tag:noindex
X-PUBLISHED-TTL:PT1H
BEGIN:VTIMEZONE
TZID:Europe/Zurich
BEGIN:DAYLIGHT
TZOFFSETFROM:+0100
TZOFFSETTO:+0200
TZNAME:CEST
DTSTART:20250330T010000
END:DAYLIGHT
BEGIN:STANDARD
TZOFFSETFROM:+0200
TZOFFSETTO:+0100
TZNAME:CET
DTSTART:20251026T010000
END:STANDARD
BEGIN:DAYLIGHT
TZOFFSETFROM:+0100
TZOFFSETTO:+0200
TZNAME:CEST
DTSTART:20260329T010000
END:DAYLIGHT
BEGIN:STANDARD
TZOFFSETFROM:+0200
TZOFFSETTO:+0100
TZNAME:CET
DTSTART:20261025T010000
END:STANDARD
BEGIN:DAYLIGHT
TZOFFSETFROM:+0100
TZOFFSETTO:+0200
TZNAME:CEST
DTSTART:20270328T010000
END:DAYLIGHT
BEGIN:STANDARD
TZOFFSETFROM:+0200
TZOFFSETTO:+0100
TZNAME:CET
DTSTART:20271031T010000
END:STANDARD
END:VTIMEZONE
BEGIN:VEVENT
DTSTART;TZID=Europe/Zurich:20260124T090000
DTEND;TZID=Europe/Zurich:20260124T173000
DTSTAMP:20260421T165458
CREATED:20240318T104203Z
LAST-MODIFIED:20260123T123156Z
UID:29291-1769245200-1769275800@voieduchaman.com
SUMMARY:Cérémonie avec les Petits Frères - C O M P L E T\, suivante 21 mars
DESCRIPTION:Cérémonie de guérison et d’enseignement avec les petits frères. \nCette cérémonie vise à élargir et explorer la conscience et modifier les processus de pensées\, traiter les réactions émotionnelles. La connexion à sa nature profonde permet des déblocages importants et mène à une forme de guérison. \nInscription : par mail à ayneah@gmail.com – CONTACT PRÉLIMINAIRE OBLIGATOIRE \nConditions : Par son inscription\, chaque participant/e déclare participer au stage de son plein gré et porter la responsabilité de lui-même et de sa propre santé\, de s’engager à suivre le déroulement proposé et à adopter une attitude et un comportement responsables envers lui-même et envers le groupe. L’organisateur ne répond pas de dommages matériels\, corporels ou autre.\n♦ La contribution valide l’inscription. Elle est à faire par virement bancaire aux coordonnées suivantes\, avec la mention atelier 24.01 :\nAynea & Co  – 1950 Sion\, Banque Raiffeisen Sion & Région\, IBAN CH51 8080 8006 7290 7503 8. \nPréparation : Venir à jeun (pas de repas après celui du matin) et arrêter toute consommation d’alcool\, de café\, de tabac ou autre substance 24h avant la cérémonie. Indiquer impérativement si prise de médicament\, maladie ou problème particulier. \nMatériel : Prendre un tapis de sol\, une couverture\, un coussin\, un bandeau pour les yeux et de l’eau. Offrandes et petits objets à recharger sont bienvenus. De quoi partager un casse-dalle après la cérémonie.
URL:http://voieduchaman.com/evenements/ceremonie-avec-les-petits-freres/
LOCATION:Vex\, 1981\, Suisse
CATEGORIES:Cérémonie
ATTACH;FMTTYPE=image/jpeg:http://voieduchaman.com/wp-content/uploads/2024/01/IMG_5257-300x225-1.jpg
ORGANIZER;CN="Aynea Heyoka":MAILTO:ayneah@gmail.com
END:VEVENT
END:VCALENDAR