BEGIN:VCALENDAR
VERSION:2.0
PRODID:-//La Voie du Chaman - Aynea Heyoka - ECPv6.15.20//NONSGML v1.0//EN
CALSCALE:GREGORIAN
METHOD:PUBLISH
X-WR-CALNAME:La Voie du Chaman - Aynea Heyoka
X-ORIGINAL-URL:http://voieduchaman.com
X-WR-CALDESC:Évènements pour La Voie du Chaman - Aynea Heyoka
REFRESH-INTERVAL;VALUE=DURATION:PT1H
X-Robots-Tag:noindex
X-PUBLISHED-TTL:PT1H
BEGIN:VTIMEZONE
TZID:Europe/Zurich
BEGIN:DAYLIGHT
TZOFFSETFROM:+0100
TZOFFSETTO:+0200
TZNAME:CEST
DTSTART:20250330T010000
END:DAYLIGHT
BEGIN:STANDARD
TZOFFSETFROM:+0200
TZOFFSETTO:+0100
TZNAME:CET
DTSTART:20251026T010000
END:STANDARD
BEGIN:DAYLIGHT
TZOFFSETFROM:+0100
TZOFFSETTO:+0200
TZNAME:CEST
DTSTART:20260329T010000
END:DAYLIGHT
BEGIN:STANDARD
TZOFFSETFROM:+0200
TZOFFSETTO:+0100
TZNAME:CET
DTSTART:20261025T010000
END:STANDARD
BEGIN:DAYLIGHT
TZOFFSETFROM:+0100
TZOFFSETTO:+0200
TZNAME:CEST
DTSTART:20270328T010000
END:DAYLIGHT
BEGIN:STANDARD
TZOFFSETFROM:+0200
TZOFFSETTO:+0100
TZNAME:CET
DTSTART:20271031T010000
END:STANDARD
END:VTIMEZONE
BEGIN:VEVENT
DTSTART;TZID=Europe/Zurich:20260418T183000
DTEND;TZID=Europe/Zurich:20260418T233000
DTSTAMP:20260421T123940
CREATED:20240109T113407Z
LAST-MODIFIED:20260221T100016Z
UID:29174-1776537000-1776555000@voieduchaman.com
SUMMARY:Cérémonie avec Grand-Mère Cacao
DESCRIPTION:Ouverture du Cœur avec Grand-Mère Cacao \nUne expérience douce et profonde de connexion à soi\, d’ouverture et de nettoyage des blessures émotionnelles.\nLes Plantes de Pouvoir sont des plantes guérisseuses\, enseignantes et de grands Esprits alliés. Travailler avec elles sont des moments particulièrement puissants et sacrés. \nInscription : par mail à ayneah@gmail.com. \nConditions : Par son inscription\, chaque participant/e déclare participer au stage de son plein gré et porter la responsabilité de lui-même et de sa propre santé\, de s’engager à suivre le déroulement proposé et à adopter une attitude et un comportement responsables envers lui-même et envers le groupe. L’organisateur ne répond pas de dommages matériels\, corporels ou autre.\n♦ La contribution valide l’inscription. Elle est à faire par virement bancaire aux coordonnées suivantes\, avec la mention atelier 18.04 :\nAynea & Co  – 1950 Sion\, Banque Raiffeisen Sion & Région\, IBAN CH51 8080 8006 7290 7503 8. \nInfos pratiques :\n♦ La préparation : Indiquer impérativement si prise de médicament\, maladie ou problème particulier.\nC’est un Esprit qui peut s’avérer subtil bien que puissant. Je vous invite donc les jours précédents à diminuer toutes les sources très stimulantes. En particulier à réduire alcool\, tabac\, café\, marijuana et les autres excitants. Il en va de même pour les activités ayant un impact marqué sur votre état interne (sport\, sexe\, réseaux sociaux\, sorties\, etc.). Favorisez des temps d’introspection et la conscientisation de votre motivation pour ce travail.\nLe  jour de la cérémonie\, il faut que arriver à jeun\, c’est-à-dire ne rien manger après le repas de midi. Vous pouvez néanmoins boire de l’eau modérément.\n♦ Le matériel : Prévoir des habits confortables. Prendre un tapis de sol\, une couverture\, un coussin\, des instruments de musique\, éventuellement une offrande et des petits objets à recharger.
URL:http://voieduchaman.com/evenements/ceremonie-avec-grand-mere-cacao/
LOCATION:Vex\, 1981\, Suisse
CATEGORIES:Cérémonie
ATTACH;FMTTYPE=image/jpeg:http://voieduchaman.com/wp-content/uploads/2023/06/volcano-422072_1280.jpg
ORGANIZER;CN="Aynea Heyoka":MAILTO:ayneah@gmail.com
END:VEVENT
END:VCALENDAR